BEGIN:VCALENDAR
VERSION:2.0
PRODID:PHP
BEGIN:VEVENT
UID:463@ousgg
DTSTART:20170116T190000Z
DTEND:20170116T210000Z
SUMMARY:Ice skating
DESCRIPTION:An evening of ice skating - bring £6 for entry and skate hire
LOCATION:Oxford Ice Rink
END:VEVENT
BEGIN:VEVENT
UID:464@ousgg
DTSTART:20170123T190000Z
DTEND:20170123T210000Z
SUMMARY:Burns Night dinner
DESCRIPTION:Going on a culinary journey north with haggis, neeps and tatties
LOCATION:Venue TBC
END:VEVENT
BEGIN:VEVENT
UID:465@ousgg
DTSTART:20170130T190000Z
DTEND:20170130T203000Z
SUMMARY:Chinese New Year celebration
DESCRIPTION:Chinese snacks and crafts for the lunar new year
LOCATION:Meet outside Wadham
END:VEVENT
BEGIN:VEVENT
UID:466@ousgg
DTSTART:20170206T190000Z
DTEND:20170206T210000Z
SUMMARY:Meadow walk & pub trip
DESCRIPTION:A winter stroll through Port Meadow followed by a pint
LOCATION:Meet outside St John's
END:VEVENT
BEGIN:VEVENT
UID:467@ousgg
DTSTART:20170213T190000Z
DTEND:20170213T210000Z
SUMMARY:Board games
DESCRIPTION:Board games at Oxford's original board game café
LOCATION:Thirsty Meeples
END:VEVENT
BEGIN:VEVENT
UID:468@ousgg
DTSTART:20170220T190000Z
DTEND:20170220T203000Z
SUMMARY:Oxford quiz/treasure hunt
DESCRIPTION:A hunt that will take you around Oxford to find clues
LOCATION:Meet outside Trinity
END:VEVENT
BEGIN:VEVENT
UID:469@ousgg
DTSTART:20170227T190000Z
DTEND:20170227T203000Z
SUMMARY:Pancake Day
DESCRIPTION:Bring your favourite toppings for our annual pancake feast!
LOCATION:Venue TBC
END:VEVENT
BEGIN:VEVENT
UID:470@ousgg
DTSTART:20170306T190000Z
DTEND:20170306T203000Z
SUMMARY:TGM - meal & planning
DESCRIPTION:Gathering ideas for Trinity Term
LOCATION:Venue TBC
END:VEVENT
END:VCALENDAR
